BEGIN:VCALENDAR
VERSION:2.0
PRODID:-//Health Freedom NH - ECPv6.15.20//NONSGML v1.0//EN
CALSCALE:GREGORIAN
METHOD:PUBLISH
X-WR-CALNAME:Health Freedom NH
X-ORIGINAL-URL:https://hfnh.org
X-WR-CALDESC:Events for Health Freedom NH
REFRESH-INTERVAL;VALUE=DURATION:PT1H
X-Robots-Tag:noindex
X-PUBLISHED-TTL:PT1H
BEGIN:VTIMEZONE
TZID:America/New_York
BEGIN:DAYLIGHT
TZOFFSETFROM:-0500
TZOFFSETTO:-0400
TZNAME:EDT
DTSTART:20220313T070000
END:DAYLIGHT
BEGIN:STANDARD
TZOFFSETFROM:-0400
TZOFFSETTO:-0500
TZNAME:EST
DTSTART:20221106T060000
END:STANDARD
BEGIN:DAYLIGHT
TZOFFSETFROM:-0500
TZOFFSETTO:-0400
TZNAME:EDT
DTSTART:20230312T070000
END:DAYLIGHT
BEGIN:STANDARD
TZOFFSETFROM:-0400
TZOFFSETTO:-0500
TZNAME:EST
DTSTART:20231105T060000
END:STANDARD
BEGIN:DAYLIGHT
TZOFFSETFROM:-0500
TZOFFSETTO:-0400
TZNAME:EDT
DTSTART:20240310T070000
END:DAYLIGHT
BEGIN:STANDARD
TZOFFSETFROM:-0400
TZOFFSETTO:-0500
TZNAME:EST
DTSTART:20241103T060000
END:STANDARD
END:VTIMEZONE
BEGIN:VEVENT
DTSTART;TZID=America/New_York:20230923T080000
DTEND;TZID=America/New_York:20230923T163000
DTSTAMP:20260423T075943
CREATED:20230910T233549Z
LAST-MODIFIED:20240207T112813Z
UID:15145-1695456000-1695486600@hfnh.org
SUMMARY:Children's Health Defense Bus- Concord\, NH
DESCRIPTION:FREE EVENT – TELL YOUR CHILDHOOD VACCINE or C19 SHOT STORY\nCLICK HERE for more information or to make a donation\n\nLocation: Bicentennial Square Park\, Concord NH (bus will park on Warren St.)\nThe #CHDBUS is coming to Concord\, NH and wants to hear your stories! \nPlease visit our contact page to let us know of your interest in telling your story.\nYou are cordially invited to come on the Bus and meet Polly\, to tell your story.\nThe 42-foot “CHD BUS” will travel across the continental U.S. over the next year. The #CHDBUS tour aims to gather stories from people injured or who have died as a result of vaccinations\, including but not limited to COVID-19 shots or hospital protocols.  We also would like to hear your stories of life without vaccinations and stories of healing and overcoming injury. \nAt tour locations\, those who were harmed (injured or survivors of loved ones who died) by vaccines will have a platform to share their stories and sign their name on the bus. This is your opportunity to be a participant in The People’s Study and connect with like-minded \npeople in your local community. \nThe tour features a brand new bus modeled after the beloved RV in the documentary\, “Vaxxed II: The People’s Truth\,” coinciding with the release of the book “Vax-Unvax: Let the Science Speak” in which Robert F. Kennedy Jr. and Brian Hooker\, Ph.D.\, investigate over 100 peer-reviewed studies analyzing the differences in health outcomes in vaccinated versus unvaccinated populations. \nRegister now to attend\, see and visit the Bus\, and tell your story. Donations go directly towards the cost of the gas for the bus\, and are gratefully accepted\, but registration is free. \nLocation: Bicentennial Square Park\, Concord NH (bus will park on Warren St.)\n 
URL:https://hfnh.org/event/vaxxed-bus/
CATEGORIES:demonstration,meeting
ATTACH;FMTTYPE=image/jpeg:https://hfnh.org/wp-content/uploads/2023/09/CHD-BUS-4.jpg
END:VEVENT
END:VCALENDAR