BEGIN:VCALENDAR
VERSION:2.0
PRODID:-//Health Freedom NH - ECPv6.15.20//NONSGML v1.0//EN
CALSCALE:GREGORIAN
METHOD:PUBLISH
X-ORIGINAL-URL:https://hfnh.org
X-WR-CALDESC:Events for Health Freedom NH
REFRESH-INTERVAL;VALUE=DURATION:PT1H
X-Robots-Tag:noindex
X-PUBLISHED-TTL:PT1H
BEGIN:VTIMEZONE
TZID:America/New_York
BEGIN:DAYLIGHT
TZOFFSETFROM:-0500
TZOFFSETTO:-0400
TZNAME:EDT
DTSTART:20220313T070000
END:DAYLIGHT
BEGIN:STANDARD
TZOFFSETFROM:-0400
TZOFFSETTO:-0500
TZNAME:EST
DTSTART:20221106T060000
END:STANDARD
BEGIN:DAYLIGHT
TZOFFSETFROM:-0500
TZOFFSETTO:-0400
TZNAME:EDT
DTSTART:20230312T070000
END:DAYLIGHT
BEGIN:STANDARD
TZOFFSETFROM:-0400
TZOFFSETTO:-0500
TZNAME:EST
DTSTART:20231105T060000
END:STANDARD
BEGIN:DAYLIGHT
TZOFFSETFROM:-0500
TZOFFSETTO:-0400
TZNAME:EDT
DTSTART:20240310T070000
END:DAYLIGHT
BEGIN:STANDARD
TZOFFSETFROM:-0400
TZOFFSETTO:-0500
TZNAME:EST
DTSTART:20241103T060000
END:STANDARD
END:VTIMEZONE
BEGIN:VEVENT
DTSTART;TZID=America/New_York:20231003T143000
DTEND;TZID=America/New_York:20231003T163000
DTSTAMP:20260421T213331
CREATED:20231003T115153Z
LAST-MODIFIED:20240207T112710Z
UID:15176-1696343400-1696350600@hfnh.org
SUMMARY:DHHS Public Hearing on Vaccination Registry Rules
DESCRIPTION:Tuesday\, October 3rd at 2:30 pm\, there is a public hearing to tell the  Department of Health and Human Services their proposed rules to keep or share a list of who opts out of the vaccination registry is unconstitutional and illegal per our laws and that these rules shall not be adopted.\nWE NEED A CROWD!!!  PLEASE TAKE ACTION & ATTEND.\nDHHS\, Brown Building Auditorium\, 129 Pleasant Street\, Concord\, NH\nTUESDAY OCTOBER 3RD 2:30PM\nIf you cannot attend this meeting\, please email your objections to these rule changes to: Allyson.E.Raadmae@dhhs.nh.gov and Lori.A.Weaver@dhhs.nh.gov \n– The DHHS proposes changing the word “vaccine” to “immunization”. This language change discounts natural immunity and implies that the only way to be immunized is via vaccination. \n– It would allow NH vaccine registry data to be shared with other states\, which is a violation of our privacy and this data could end up in the hands of the federal government. \n– The new rules would defer to the CDC in terms of what data is collected. The state of NH is accountable for our own terms regarding data collection and should not defer to a federal bureaucracy. \n– The new language would essentially create an opt out list\, which is a violation of the NH constitution\, the right to privacy. \nPublic Comment Ends: Tuesday\, October 10th\, 2023\nThis information courtesy of our friends at Rebuild NH.
URL:https://hfnh.org/event/dhhshearing10-3/
CATEGORIES:hearing
ATTACH;FMTTYPE=image/png:https://hfnh.org/wp-content/uploads/2023/10/Screen-Shot-2023-10-03-at-7.50.55-AM.png
END:VEVENT
END:VCALENDAR